BEGIN:VCALENDAR
VERSION:2.0
PRODID:-//Tukios.com/
BEGIN:VEVENT
UID:b9e36627-bab5-4f7e-bbf0-636786c0da4c@www.salernofuneralhomes.com
DTSTAMP:20260422T211016Z
DTSTART:20260427T200000Z
DTEND:20260428T020000Z
SUMMARY:Visitation
DESCRIPTION:
URL:https://www.salernofuneralhomes.com/obituaries/carol-parise
LOCATION: 450 W Lake St  Roselle IL 60172
GEO:41.96253;-88.0941131
END:VEVENT
END:VCALENDAR