BEGIN:VCALENDAR
VERSION:2.0
PRODID:-//Tukios.com/
BEGIN:VEVENT
UID:46b2dd6e-8c9d-4626-9078-e390748502e3@www.salernofuneralhomes.com
DTSTAMP:20260422T211457Z
DTSTART:20260428T150000Z
DTEND:20260428T160000Z
SUMMARY:Mass
DESCRIPTION:Final Viewing and Prayers to begin 8:30 am at Salerno's 
	Rosedale Chapels then proceed to St Peter Damian Church for Mass at 10:00 
	am.
URL:https://www.salernofuneralhomes.com/obituaries/carol-parise
LOCATION: 131 S Crest Ave  Bartlett IL 60103
GEO:41.9932722;-88.1783137
END:VEVENT
END:VCALENDAR