BEGIN:VCALENDAR
VERSION:2.0
PRODID:-//Tukios.com/
BEGIN:VEVENT
UID:7bd2475f-0095-4ce8-96c1-2ef9889cb7c2@www.salernofuneralhomes.com
DTSTAMP:20260424T235541Z
DTSTART:20260430T200000Z
DTEND:20260501T010000Z
SUMMARY:Visitation
DESCRIPTION:
URL:https://www.salernofuneralhomes.com/obituaries/dennis-raske
LOCATION: 450 W Lake St  Roselle IL 60172
GEO:41.96253;-88.0941131
END:VEVENT
END:VCALENDAR