BEGIN:VCALENDAR
VERSION:2.0
PRODID:-//Tukios.com/
BEGIN:VEVENT
UID:157ebc9f-ce8c-41e5-829f-c69398e6dbd4@www.salernofuneralhomes.com
DTSTAMP:20260424T235500Z
DTSTART:20260501T154500Z
DTEND:20260501T164500Z
SUMMARY:Funeral Mass
DESCRIPTION:Prayers and Final Viewing to begin Friday May 1, 2026 9:45 am 
	at Salerno's Rosedale Chapels proceeding to St Isidore Church for Mass at 
	10:45 am.
URL:https://www.salernofuneralhomes.com/obituaries/dennis-raske
LOCATION: 427 W Army Trail Rd  Bloomingdale IL 60108
GEO:41.9410645;-88.1178796
END:VEVENT
END:VCALENDAR