BEGIN:VCALENDAR
VERSION:2.0
PRODID:-//Tukios.com/
BEGIN:VEVENT
UID:62cb00b0-afdd-4f54-8e24-bdf95062373a@www.salernofuneralhomes.com
DTSTAMP:20260425T144432Z
DTSTART:20260512T190000Z
DTEND:20260512T200000Z
SUMMARY:Memorial Visitation
DESCRIPTION:Complimentary Valet Service will be available.
URL:https://www.salernofuneralhomes.com/obituaries/edward-krawczyk
LOCATION:Elgin Country Club 2575 Weld Rd  Elgin IL 60124
GEO:42.0319661;-88.3475579
END:VEVENT
END:VCALENDAR