BEGIN:VCALENDAR
VERSION:2.0
PRODID:-//Tukios.com/
BEGIN:VEVENT
UID:5b6eea22-a1fa-4dff-9c46-ecc8e056258b@www.salernofuneralhomes.com
DTSTAMP:20260425T144744Z
DTSTART:20260512T200000Z
DTEND:20260512T210000Z
SUMMARY:Celebration of Life Service
DESCRIPTION:Memorial Luncheon will follow the Celebration of Life 
	Service.
URL:https://www.salernofuneralhomes.com/obituaries/edward-krawczyk
LOCATION:Elgin Country Club 2575 Weld Rd  Elgin IL 60124
GEO:42.0319661;-88.3475579
END:VEVENT
END:VCALENDAR