BEGIN:VCALENDAR
VERSION:2.0
PRODID:-//Tukios.com/
BEGIN:VEVENT
UID:c7f0e38f-83d7-4ac1-94fb-d88e6d6f32e9@www.salernofuneralhomes.com
DTSTAMP:20260421T210325Z
DTSTART:20260426T190000Z
DTEND:20260427T010000Z
SUMMARY:Visitation
DESCRIPTION:
URL:https://www.salernofuneralhomes.com/obituaries/federico-leo-bautista
LOCATION: 450 W Lake St  Roselle IL 60172
GEO:41.96253;-88.0941131
END:VEVENT
END:VCALENDAR