BEGIN:VCALENDAR
VERSION:2.0
PRODID:-//Tukios.com/
BEGIN:VEVENT
UID:821aaae1-d14f-487e-bd5a-7ef3b36b2395@www.salernofuneralhomes.com
DTSTAMP:20260421T210054Z
DTSTART:20260427T134500Z
DTEND:20260427T144500Z
SUMMARY:Prayer Service
DESCRIPTION:
URL:https://www.salernofuneralhomes.com/obituaries/federico-leo-bautista
LOCATION: 450 W Lake St  Roselle IL 60172
GEO:41.96253;-88.0941131
END:VEVENT
END:VCALENDAR