BEGIN:VCALENDAR
VERSION:2.0
PRODID:-//Tukios.com/
BEGIN:VEVENT
UID:e08568cc-ec3b-40f5-a310-76c6bf1b3547@www.salernofuneralhomes.com
DTSTAMP:20260421T205901Z
DTSTART:20260427T150000Z
DTEND:20260427T160000Z
SUMMARY:Mass
DESCRIPTION:
URL:https://www.salernofuneralhomes.com/obituaries/federico-leo-bautista
LOCATION:St. John the Evangelist Catholic Church 502 S Park Blvd  
	Streamwood IL 60107
GEO:42.0210888;-88.1680047
END:VEVENT
END:VCALENDAR