BEGIN:VCALENDAR
VERSION:2.0
PRODID:-//Tukios.com/
BEGIN:VEVENT
UID:b94b8a10-a6bd-49e2-9624-1fa48276ce7a@www.salernofuneralhomes.com
DTSTAMP:20260422T224424Z
DTSTART:20260427T133000Z
DTEND:20260427T163000Z
SUMMARY:Visitation
DESCRIPTION:
URL:https://www.salernofuneralhomes.com/obituaries/geraldine-winston
LOCATION: 450 W Lake St  Roselle IL 60172
GEO:41.96253;-88.0941131
END:VEVENT
END:VCALENDAR