BEGIN:VCALENDAR
VERSION:2.0
PRODID:-//Tukios.com/
BEGIN:VEVENT
UID:472fd000-993b-4377-974b-405aa7cb51d1@www.salernofuneralhomes.com
DTSTAMP:20260422T224337Z
DTSTART:20260427T163000Z
DTEND:20260427T173000Z
SUMMARY:Chapel Service
DESCRIPTION:
URL:https://www.salernofuneralhomes.com/obituaries/geraldine-winston
LOCATION: 450 W Lake St  Roselle IL 60172
GEO:41.96253;-88.0941131
END:VEVENT
END:VCALENDAR