BEGIN:VCALENDAR
VERSION:2.0
PRODID:-//Tukios.com/
BEGIN:VEVENT
UID:61569331-4d5a-4bc2-84c1-b190c2da12e8@www.salernofuneralhomes.com
DTSTAMP:20260419T194846Z
DTSTART:20260423T200000Z
DTEND:20260424T010000Z
SUMMARY:Visitation
DESCRIPTION:
URL:https://www.salernofuneralhomes.com/obituaries/geralyn-mulcahy
LOCATION: 450 W Lake St  Roselle IL 60172
GEO:41.96253;-88.0941131
END:VEVENT
END:VCALENDAR