BEGIN:VCALENDAR
VERSION:2.0
PRODID:-//Tukios.com/
BEGIN:VEVENT
UID:67359443-bb50-45aa-9b73-7daab11f0ac4@www.salernofuneralhomes.com
DTSTAMP:20260419T194830Z
DTSTART:20260424T134500Z
DTEND:20260424T144500Z
SUMMARY:Prayer Service
DESCRIPTION:
URL:https://www.salernofuneralhomes.com/obituaries/geralyn-mulcahy
LOCATION: 450 W Lake St  Roselle IL 60172
GEO:41.96253;-88.0941131
END:VEVENT
END:VCALENDAR