BEGIN:VCALENDAR
VERSION:2.0
PRODID:-//Tukios.com/
BEGIN:VEVENT
UID:7aaa8de1-3f2c-4268-9361-0cb807b9657a@www.salernofuneralhomes.com
DTSTAMP:20260419T194824Z
DTSTART:20260424T150000Z
DTEND:20260424T160000Z
SUMMARY:Mass
DESCRIPTION:
URL:https://www.salernofuneralhomes.com/obituaries/geralyn-mulcahy
LOCATION:St Peter the Apostle Catholic Church 551 N Rush St  Itasca IL 
	60143
GEO:41.9774956;-88.0086859
END:VEVENT
END:VCALENDAR