BEGIN:VCALENDAR
VERSION:2.0
PRODID:-//Tukios.com/
BEGIN:VEVENT
UID:ee959f01-662a-46ee-93b4-851f79282995@www.salernofuneralhomes.com
DTSTAMP:20260423T153618Z
DTSTART:20260425T190000Z
DTEND:20260426T010000Z
SUMMARY:Visitation
DESCRIPTION:
URL:https://www.salernofuneralhomes.com/obituaries/marietta-tierra
LOCATION: 450 W Lake St  Roselle IL 60172
GEO:41.96253;-88.0941131
END:VEVENT
END:VCALENDAR