BEGIN:VCALENDAR
VERSION:2.0
PRODID:-//Tukios.com/
BEGIN:VEVENT
UID:c20b2365-0bc1-4858-9716-86bf040e8232@www.salernofuneralhomes.com
DTSTAMP:20260423T153053Z
DTSTART:20260425T230000Z
DTEND:20260426T000000Z
SUMMARY:Prayer Service
DESCRIPTION:
URL:https://www.salernofuneralhomes.com/obituaries/marietta-tierra
LOCATION: 450 W Lake St  Roselle IL 60172
GEO:41.96253;-88.0941131
END:VEVENT
END:VCALENDAR