BEGIN:VCALENDAR
VERSION:2.0
PRODID:-//Tukios.com/
BEGIN:VEVENT
UID:86587e70-04f7-4393-bdd2-f70c86be5fb2@www.salernofuneralhomes.com
DTSTAMP:20260423T152922Z
DTSTART:20260502T150000Z
DTEND:20260502T160000Z
SUMMARY:Interment
DESCRIPTION:Meet directly at the Cemetery Office.
URL:https://www.salernofuneralhomes.com/obituaries/marietta-tierra
LOCATION: 700 N River Rd  Des Plaines IL 60016
GEO:42.0608939;-87.8909648
END:VEVENT
END:VCALENDAR