BEGIN:VCALENDAR
VERSION:2.0
PRODID:-//Tukios.com/
BEGIN:VEVENT
UID:d3d4a856-f040-4f89-8245-58fc10499a89@www.salernofuneralhomes.com
DTSTAMP:20260423T083629Z
DTSTART:20260502T170000Z
DTEND:20260502T180000Z
SUMMARY:Mass
DESCRIPTION:
URL:https://www.salernofuneralhomes.com/obituaries/richard-antonini
LOCATION:St Matthew's Church 1555 Glen Ellyn Rd  Glendale Heights IL 
	60139
GEO:41.9166668;-88.061062
END:VEVENT
END:VCALENDAR