BEGIN:VCALENDAR
VERSION:2.0
PRODID:-//Tukios.com/
BEGIN:VEVENT
UID:2116c18d-a0da-4540-8af4-25ae6eafadb3@www.salernofuneralhomes.com
DTSTAMP:20260421T221131Z
DTSTART:20260428T133000Z
DTEND:20260428T143000Z
SUMMARY:Visitation
DESCRIPTION:
URL:https://www.salernofuneralhomes.com/obituaries/vincenzo-davolio
LOCATION: 450 W Lake St  Roselle IL 60172
GEO:41.96253;-88.0941131
END:VEVENT
END:VCALENDAR