BEGIN:VCALENDAR
VERSION:2.0
PRODID:-//Tukios.com/
BEGIN:VEVENT
UID:365ce895-4cc8-41dc-a232-fe2e66dc80e1@www.salernofuneralhomes.com
DTSTAMP:20260421T221416Z
DTSTART:20260428
SUMMARY:Burial
DESCRIPTION:
URL:https://www.salernofuneralhomes.com/obituaries/vincenzo-davolio
LOCATION:St Michael the Archangel Catholic Cemetery and Mausoleum 1185 
	Algonquin Rd  Palatine IL 60067
GEO:42.076043;-88.075593
END:VEVENT
END:VCALENDAR